BEGIN:VCALENDAR
VERSION:2.0
PRODID:-//War Survivors Institute - ECPv6.15.20//NONSGML v1.0//EN
CALSCALE:GREGORIAN
METHOD:PUBLISH
X-WR-CALNAME:War Survivors Institute
X-ORIGINAL-URL:https://warsurvivors.org
X-WR-CALDESC:Events for War Survivors Institute
REFRESH-INTERVAL;VALUE=DURATION:PT1H
X-Robots-Tag:noindex
X-PUBLISHED-TTL:PT1H
BEGIN:VTIMEZONE
TZID:America/Los_Angeles
BEGIN:DAYLIGHT
TZOFFSETFROM:-0800
TZOFFSETTO:-0700
TZNAME:PDT
DTSTART:20180311T100000
END:DAYLIGHT
BEGIN:STANDARD
TZOFFSETFROM:-0700
TZOFFSETTO:-0800
TZNAME:PST
DTSTART:20181104T090000
END:STANDARD
BEGIN:DAYLIGHT
TZOFFSETFROM:-0800
TZOFFSETTO:-0700
TZNAME:PDT
DTSTART:20190310T100000
END:DAYLIGHT
BEGIN:STANDARD
TZOFFSETFROM:-0700
TZOFFSETTO:-0800
TZNAME:PST
DTSTART:20191103T090000
END:STANDARD
BEGIN:DAYLIGHT
TZOFFSETFROM:-0800
TZOFFSETTO:-0700
TZNAME:PDT
DTSTART:20200308T100000
END:DAYLIGHT
BEGIN:STANDARD
TZOFFSETFROM:-0700
TZOFFSETTO:-0800
TZNAME:PST
DTSTART:20201101T090000
END:STANDARD
END:VTIMEZONE
BEGIN:VEVENT
DTSTART;VALUE=DATE:20191019
DTEND;VALUE=DATE:20191020
DTSTAMP:20260423T014338
CREATED:20191015T203335Z
LAST-MODIFIED:20191017T205327Z
UID:308-1571443200-1571529599@warsurvivors.org
SUMMARY:Healing the Heart Center Event-Veterans
DESCRIPTION:Join us in Louisville KY for a Healing the Heart workshop at the University of Louisville\, Shelby Campus. \n8:30- 12:00 \nLEARN ABOUT \n· Effects of war on your heart health \n· Ways to promote healing by:  \n Improving heartful movement · Eating to reduce stress and improve health · Engaging in heart healthy social support · Using mind-body techniques · Living a meaningful and purposeful life \nRegister today! https://www.eventbrite.com/e/healing-the-heart-center-kentucky-tickets-68182205813
URL:https://warsurvivors.org/event/healing-the-heart-center-event-veterans/
END:VEVENT
BEGIN:VEVENT
DTSTART;TZID=America/Los_Angeles:20191006T080000
DTEND;TZID=America/Los_Angeles:20191006T120000
DTSTAMP:20260423T014338
CREATED:20190716T044852Z
LAST-MODIFIED:20190806T042831Z
UID:247-1570348800-1570363200@warsurvivors.org
SUMMARY:Annual Walk-for-War Suvivors
DESCRIPTION:3RD ANNUAL 5K WALK \nFOR WAR SURVIVORS \n\n \nOCTOBER 6\, 2019\nColorado Lagoon Aquatic Park\n4900 Appian Way Long Beach\, CA. 90814\nCheck-In Begins at 8AM\nWalk Begins at 9AM \nDownload our flyer for the event: \nWSI Walk-a-Thon 2019
URL:https://warsurvivors.org/event/annual-walk-for-war-suvivors/
LOCATION:Colorado Lagoon Long Beach CA\, 4900 Appian Way\, Long Beach\, CA\, CA\, 90814\, United States
ORGANIZER;CN="War Survivors Institute":MAILTO:info@warsurvivors.org
END:VEVENT
BEGIN:VEVENT
DTSTART;VALUE=DATE:20190928
DTEND;VALUE=DATE:20190929
DTSTAMP:20260423T014338
CREATED:20190716T045427Z
LAST-MODIFIED:20190818T172107Z
UID:248-1569628800-1569715199@warsurvivors.org
SUMMARY:The Heart Center of the Path to Whole Health for U.S. Veteran War Survivors
DESCRIPTION:JOIN US…\nfor a one-day transformational journey towards\nhealing your heart and soul\n \nLEARN ABOUT\n· Effects of war on your heart health \n· Ways to promote healing by:  \n  Improving heartful movement · Eating to reduce stress and improve health · Engaging in heart healthy social support · Using mind-body techniques · Living a meaningful and purposeful life \n“The only thing greater than the power of the mind is the courage of the heart” \nRegister at Event Website Below or on this link:   \nwww.eventbrite.com/e/healing-the-heart-center-tickets-67945917067
URL:https://warsurvivors.org/event/the-heart-center-of-the-path-to-whole-health-for-u-s-veteran-war-survivors/
LOCATION:TBD\, Long Beach\, CA
ORGANIZER;CN="":MAILTO:info@warsurvivors.org
END:VEVENT
END:VCALENDAR